BEGIN:VCALENDAR
VERSION:2.0
PRODID:-//Area 83 Alcoholics Anonymous - ECPv6.15.20//NONSGML v1.0//EN
CALSCALE:GREGORIAN
METHOD:PUBLISH
X-WR-CALNAME:Area 83 Alcoholics Anonymous
X-ORIGINAL-URL:https://www.area83aa.org
X-WR-CALDESC:Events for Area 83 Alcoholics Anonymous
REFRESH-INTERVAL;VALUE=DURATION:PT1H
X-Robots-Tag:noindex
X-PUBLISHED-TTL:PT1H
BEGIN:VTIMEZONE
TZID:America/Toronto
BEGIN:DAYLIGHT
TZOFFSETFROM:-0500
TZOFFSETTO:-0400
TZNAME:EDT
DTSTART:20240310T070000
END:DAYLIGHT
BEGIN:STANDARD
TZOFFSETFROM:-0400
TZOFFSETTO:-0500
TZNAME:EST
DTSTART:20241103T060000
END:STANDARD
BEGIN:DAYLIGHT
TZOFFSETFROM:-0500
TZOFFSETTO:-0400
TZNAME:EDT
DTSTART:20250309T070000
END:DAYLIGHT
BEGIN:STANDARD
TZOFFSETFROM:-0400
TZOFFSETTO:-0500
TZNAME:EST
DTSTART:20251102T060000
END:STANDARD
BEGIN:DAYLIGHT
TZOFFSETFROM:-0500
TZOFFSETTO:-0400
TZNAME:EDT
DTSTART:20260308T070000
END:DAYLIGHT
BEGIN:STANDARD
TZOFFSETFROM:-0400
TZOFFSETTO:-0500
TZNAME:EST
DTSTART:20261101T060000
END:STANDARD
END:VTIMEZONE
BEGIN:VEVENT
DTSTART;TZID=America/Toronto:20250128T190000
DTEND;TZID=America/Toronto:20250128T200000
DTSTAMP:20260423T121101
CREATED:20240718T210016Z
LAST-MODIFIED:20250106T221335Z
UID:418745-1738090800-1738094400@www.area83aa.org
SUMMARY:PI/CPC Subcommittee Meeting
DESCRIPTION:Area 83 Public Information/Cooperation with the professional Community meeting from 7-8p.m.\nMeeting ID: 893 2745 5491\nPasscode: 887403\n\nClick the image to join the meeting.
URL:https://www.area83aa.org/event/pi-cpc-subcommittee-meeting/
LOCATION:Virtual\, Ontario\, Canada
CATEGORIES:Cooperation with the Professional Community Committee,Public Information Committee
ORGANIZER;CN="Area 83 Public Information Chair":MAILTO:pi@area83aa.org
END:VEVENT
END:VCALENDAR