BEGIN:VCALENDAR
VERSION:2.0
PRODID:-//Area 83 Alcoholics Anonymous - ECPv6.15.20//NONSGML v1.0//EN
CALSCALE:GREGORIAN
METHOD:PUBLISH
X-ORIGINAL-URL:https://www.area83aa.org
X-WR-CALDESC:Events for Area 83 Alcoholics Anonymous
REFRESH-INTERVAL;VALUE=DURATION:PT1H
X-Robots-Tag:noindex
X-PUBLISHED-TTL:PT1H
BEGIN:VTIMEZONE
TZID:America/Toronto
BEGIN:DAYLIGHT
TZOFFSETFROM:-0500
TZOFFSETTO:-0400
TZNAME:EDT
DTSTART:20230312T070000
END:DAYLIGHT
BEGIN:STANDARD
TZOFFSETFROM:-0400
TZOFFSETTO:-0500
TZNAME:EST
DTSTART:20231105T060000
END:STANDARD
BEGIN:DAYLIGHT
TZOFFSETFROM:-0500
TZOFFSETTO:-0400
TZNAME:EDT
DTSTART:20240310T070000
END:DAYLIGHT
BEGIN:STANDARD
TZOFFSETFROM:-0400
TZOFFSETTO:-0500
TZNAME:EST
DTSTART:20241103T060000
END:STANDARD
BEGIN:DAYLIGHT
TZOFFSETFROM:-0500
TZOFFSETTO:-0400
TZNAME:EDT
DTSTART:20250309T070000
END:DAYLIGHT
BEGIN:STANDARD
TZOFFSETFROM:-0400
TZOFFSETTO:-0500
TZNAME:EST
DTSTART:20251102T060000
END:STANDARD
END:VTIMEZONE
BEGIN:VEVENT
DTSTART;TZID=America/Toronto:20240601T113000
DTEND;TZID=America/Toronto:20240601T230000
DTSTAMP:20260423T132518
CREATED:20240513T125001Z
LAST-MODIFIED:20240513T125001Z
UID:400578-1717241400-1717282800@www.area83aa.org
SUMMARY:Kingston Founders Day Roundup
DESCRIPTION:More Information Here
URL:https://www.area83aa.org/event/kingston-founders-day-roundup/
LOCATION:Crossroads United Church\, Sir John A. Macdonald Boulevard\, Kingston\, ontario\, K7M 1A2\, Canada
CATEGORIES:Convention/Roundup,District 36,Special Event
END:VEVENT
BEGIN:VEVENT
DTSTART;TZID=America/Toronto:20240514T183000
DTEND;TZID=America/Toronto:20240514T200000
DTSTAMP:20260423T132518
CREATED:20240504T200936Z
LAST-MODIFIED:20240510T185030Z
UID:398975-1715711400-1715716800@www.area83aa.org
SUMMARY:District 10 Meeting
DESCRIPTION:District 10 – Toronto South Central\nMonthly District Meeting\nSecond Tuesday of each month @ 6:30 p.m.
URL:https://www.area83aa.org/event/district-10-meeting/
CATEGORIES:District 10,District Events
END:VEVENT
BEGIN:VEVENT
DTSTART;TZID=America/Toronto:20240518T103000
DTEND;TZID=America/Toronto:20240518T120000
DTSTAMP:20260423T132518
CREATED:20240508T202459Z
LAST-MODIFIED:20240510T185017Z
UID:399524-1716028200-1716033600@www.area83aa.org
SUMMARY:District 74 Meeting
DESCRIPTION:The District 74 District Meeting is held on the 3rd Saturday of every month at Our Lady of Lourdes . \nAll District 74 AA members are welcome as guests. This is a hybrid meeting \nZoom Link
URL:https://www.area83aa.org/event/district-74-meeting/
CATEGORIES:District 74,District Events
END:VEVENT
BEGIN:VEVENT
DTSTART;TZID=America/Toronto:20240616T090000
DTEND;TZID=America/Toronto:20240616T143000
DTSTAMP:20260423T132518
CREATED:20240508T210757Z
LAST-MODIFIED:20240508T211047Z
UID:400479-1718528400-1718548200@www.area83aa.org
SUMMARY:Tri-District Service Information Day
DESCRIPTION:District 70\, 74 & 78\nWith The Delegates Report back from the General Service Conference
URL:https://www.area83aa.org/event/tri-district-service-information-day/
CATEGORIES:District 70,District 74,District 78,Service Meeting or Workshop
END:VEVENT
BEGIN:VEVENT
DTSTART;TZID=America/Toronto:20240519T133000
DTEND;TZID=America/Toronto:20240519T143000
DTSTAMP:20260423T132518
CREATED:20240510T184007Z
LAST-MODIFIED:20240510T184506Z
UID:400546-1716125400-1716129000@www.area83aa.org
SUMMARY:District 82 Meeting
DESCRIPTION:Monthly District 82 Meeting \nMeets the third Sunday of every month at the Cameron Community Church. \nThis is a hybrid meeting. \nZoom ID: 895 9392 2731 \nPasscode: 861055
URL:https://www.area83aa.org/event/district-82-meetine/
LOCATION:Cameron Community Church\, Ontario 35\, Cameron\, Ontario\, K0M 1G0\, Canada
CATEGORIES:District 82,District Events,Service Meeting or Workshop
END:VEVENT
BEGIN:VEVENT
DTSTART;TZID=America/Toronto:20240530T200000
DTEND;TZID=America/Toronto:20240530T213000
DTSTAMP:20260423T132518
CREATED:20240508T201819Z
LAST-MODIFIED:20240510T184945Z
UID:399521-1717099200-1717104600@www.area83aa.org
SUMMARY:District 34 Meeting
DESCRIPTION:The District 34 District Meeting happens on the last Thursday of every month at 8:00 p.m.
URL:https://www.area83aa.org/event/district-34-meeting/
CATEGORIES:District 34,District Events
END:VEVENT
END:VCALENDAR