BEGIN:VCALENDAR
VERSION:2.0
PRODID:-//Area 83 Alcoholics Anonymous - ECPv6.15.20//NONSGML v1.0//EN
CALSCALE:GREGORIAN
METHOD:PUBLISH
X-WR-CALNAME:Area 83 Alcoholics Anonymous
X-ORIGINAL-URL:https://www.area83aa.org
X-WR-CALDESC:Events for Area 83 Alcoholics Anonymous
REFRESH-INTERVAL;VALUE=DURATION:PT1H
X-Robots-Tag:noindex
X-PUBLISHED-TTL:PT1H
BEGIN:VTIMEZONE
TZID:America/Toronto
BEGIN:DAYLIGHT
TZOFFSETFROM:-0500
TZOFFSETTO:-0400
TZNAME:EDT
DTSTART:20230312T070000
END:DAYLIGHT
BEGIN:STANDARD
TZOFFSETFROM:-0400
TZOFFSETTO:-0500
TZNAME:EST
DTSTART:20231105T060000
END:STANDARD
BEGIN:DAYLIGHT
TZOFFSETFROM:-0500
TZOFFSETTO:-0400
TZNAME:EDT
DTSTART:20240310T070000
END:DAYLIGHT
BEGIN:STANDARD
TZOFFSETFROM:-0400
TZOFFSETTO:-0500
TZNAME:EST
DTSTART:20241103T060000
END:STANDARD
BEGIN:DAYLIGHT
TZOFFSETFROM:-0500
TZOFFSETTO:-0400
TZNAME:EDT
DTSTART:20250309T070000
END:DAYLIGHT
BEGIN:STANDARD
TZOFFSETFROM:-0400
TZOFFSETTO:-0500
TZNAME:EST
DTSTART:20251102T060000
END:STANDARD
END:VTIMEZONE
BEGIN:VEVENT
DTSTART;TZID=America/Toronto:20240925T180000
DTEND;TZID=America/Toronto:20240925T190000
DTSTAMP:20260423T202417
CREATED:20240902T150237Z
LAST-MODIFIED:20240902T150237Z
UID:428218-1727287200-1727290800@www.area83aa.org
SUMMARY:District 42 Meeting
DESCRIPTION:Meeting of the District Trusted Servants
URL:https://www.area83aa.org/event/district-42-meeting/
LOCATION:Unitarian Universalist Church\, East Main Street\, Canton\, NY\, 13617\, United States
CATEGORIES:District 42,Service Meeting or Workshop
ORGANIZER;CN="District 42 DCM":MAILTO:district42@area83aa.org
END:VEVENT
END:VCALENDAR