BEGIN:VCALENDAR
VERSION:2.0
PRODID:-//Area 83 Alcoholics Anonymous - ECPv6.15.20//NONSGML v1.0//EN
CALSCALE:GREGORIAN
METHOD:PUBLISH
X-WR-CALNAME:Area 83 Alcoholics Anonymous
X-ORIGINAL-URL:https://www.area83aa.org
X-WR-CALDESC:Events for Area 83 Alcoholics Anonymous
REFRESH-INTERVAL;VALUE=DURATION:PT1H
X-Robots-Tag:noindex
X-PUBLISHED-TTL:PT1H
BEGIN:VTIMEZONE
TZID:America/Toronto
BEGIN:DAYLIGHT
TZOFFSETFROM:-0500
TZOFFSETTO:-0400
TZNAME:EDT
DTSTART:20240310T070000
END:DAYLIGHT
BEGIN:STANDARD
TZOFFSETFROM:-0400
TZOFFSETTO:-0500
TZNAME:EST
DTSTART:20241103T060000
END:STANDARD
BEGIN:DAYLIGHT
TZOFFSETFROM:-0500
TZOFFSETTO:-0400
TZNAME:EDT
DTSTART:20250309T070000
END:DAYLIGHT
BEGIN:STANDARD
TZOFFSETFROM:-0400
TZOFFSETTO:-0500
TZNAME:EST
DTSTART:20251102T060000
END:STANDARD
BEGIN:DAYLIGHT
TZOFFSETFROM:-0500
TZOFFSETTO:-0400
TZNAME:EDT
DTSTART:20260308T070000
END:DAYLIGHT
BEGIN:STANDARD
TZOFFSETFROM:-0400
TZOFFSETTO:-0500
TZNAME:EST
DTSTART:20261101T060000
END:STANDARD
END:VTIMEZONE
BEGIN:VEVENT
DTSTART;TZID=America/Toronto:20250901T100000
DTEND;TZID=America/Toronto:20250901T150000
DTSTAMP:20260423T104952
CREATED:20250810T140629Z
LAST-MODIFIED:20250810T140629Z
UID:437452-1756720800-1756738800@www.area83aa.org
SUMMARY:AA Family Fun Day
DESCRIPTION:AA Family Fun Day\nSeptember 1st\, 10am to 3pm\nAA-Family-Fun-Day-Poster-Sept-1-2025 \nWe’re excited to see you at AA Family Fun Day\, Monday September 1\, 2025 – 10am to 3pm at Trinity Bellwoods Park\, Northwest Corner. \nTo make sure we have enough food and supplies for everyone\, please consider buying your tickets ahead of time. It really helps us plan! Details below on how to purchase pre-sale tickets: \nFor pre-sale tickets please e-transfer to aafamilyfunday@gmail.com\nAdults are $10 and Kids are $5
URL:https://www.area83aa.org/event/aa-family-fun-day/
LOCATION:Trinity Bellwoods Park – NW corner\, 790 Queen St W\, Toronto\, M6J 1G3
CATEGORIES:Area 83 Events,District 22,District Events
END:VEVENT
END:VCALENDAR