BEGIN:VCALENDAR
VERSION:2.0
PRODID:-//Area 83 Alcoholics Anonymous - ECPv6.15.20//NONSGML v1.0//EN
CALSCALE:GREGORIAN
METHOD:PUBLISH
X-ORIGINAL-URL:https://www.area83aa.org
X-WR-CALDESC:Events for Area 83 Alcoholics Anonymous
REFRESH-INTERVAL;VALUE=DURATION:PT1H
X-Robots-Tag:noindex
X-PUBLISHED-TTL:PT1H
BEGIN:VTIMEZONE
TZID:America/Toronto
BEGIN:DAYLIGHT
TZOFFSETFROM:-0500
TZOFFSETTO:-0400
TZNAME:EDT
DTSTART:20230312T070000
END:DAYLIGHT
BEGIN:STANDARD
TZOFFSETFROM:-0400
TZOFFSETTO:-0500
TZNAME:EST
DTSTART:20231105T060000
END:STANDARD
BEGIN:DAYLIGHT
TZOFFSETFROM:-0500
TZOFFSETTO:-0400
TZNAME:EDT
DTSTART:20240310T070000
END:DAYLIGHT
BEGIN:STANDARD
TZOFFSETFROM:-0400
TZOFFSETTO:-0500
TZNAME:EST
DTSTART:20241103T060000
END:STANDARD
BEGIN:DAYLIGHT
TZOFFSETFROM:-0500
TZOFFSETTO:-0400
TZNAME:EDT
DTSTART:20250309T070000
END:DAYLIGHT
BEGIN:STANDARD
TZOFFSETFROM:-0400
TZOFFSETTO:-0500
TZNAME:EST
DTSTART:20251102T060000
END:STANDARD
BEGIN:DAYLIGHT
TZOFFSETFROM:-0500
TZOFFSETTO:-0400
TZNAME:EDT
DTSTART:20260308T070000
END:DAYLIGHT
BEGIN:STANDARD
TZOFFSETFROM:-0400
TZOFFSETTO:-0500
TZNAME:EST
DTSTART:20261101T060000
END:STANDARD
BEGIN:DAYLIGHT
TZOFFSETFROM:-0500
TZOFFSETTO:-0400
TZNAME:EDT
DTSTART:20270314T070000
END:DAYLIGHT
BEGIN:STANDARD
TZOFFSETFROM:-0400
TZOFFSETTO:-0500
TZNAME:EST
DTSTART:20271107T060000
END:STANDARD
END:VTIMEZONE
BEGIN:VEVENT
DTSTART;TZID=America/Toronto:20260425T080000
DTEND;TZID=America/Toronto:20260425T170000
DTSTAMP:20260423T060306
CREATED:20260125T185317Z
LAST-MODIFIED:20260125T185317Z
UID:438486-1777104000-1777136400@www.area83aa.org
SUMMARY:District 74 Spring Roundup
DESCRIPTION:Save the Date! \n“A New Way of Living”
URL:https://www.area83aa.org/event/district-74-spring-roundup/
CATEGORIES:District 70,District 74,District 78,District 82,District 86
END:VEVENT
BEGIN:VEVENT
DTSTART;TZID=America/Toronto:20260426T090000
DTEND;TZID=America/Toronto:20260426T120000
DTSTAMP:20260423T060306
CREATED:20260414T003308Z
LAST-MODIFIED:20260414T102748Z
UID:439450-1777194000-1777204800@www.area83aa.org
SUMMARY:21st Annual East Toronto Archives Breakfast
DESCRIPTION:21st Annual East Toronto Archives Breakfast\nDistrict 18 & 22\nApril 26th 9am to 12pm\nAdvance purchase required before 22 April\, see flyer. \n 
URL:https://www.area83aa.org/event/21st-annual-east-toronto-archives-breakfast/
LOCATION:Nationwide Banquet Hall\, 760 Birchmount Rd.\, Scarborough
CATEGORIES:Area 83 Events,District 18,District 22
END:VEVENT
BEGIN:VEVENT
DTSTART;TZID=America/Toronto:20250902T174500
DTEND;TZID=America/Toronto:20250902T190000
DTSTAMP:20260423T060306
CREATED:20250808T010155Z
LAST-MODIFIED:20250808T011106Z
UID:437416-1756835100-1756839600@www.area83aa.org
SUMMARY:District 50 Meeting
DESCRIPTION:District 50 Meeting\nFirst Tuesday of each month at 5:45 p.m. \n\nClick to join the meeting.\n\n\nMeeting ID: 822 4882 4629\nPasscode: 503519
URL:https://www.area83aa.org/event/district-50-meeting-2-2/
LOCATION:Virtual\, Ontario\, Canada
CATEGORIES:Area 83 Events,District 50
END:VEVENT
BEGIN:VEVENT
DTSTART;TZID=America/Toronto:20250107T190000
DTEND;TZID=America/Toronto:20250107T200000
DTSTAMP:20260423T060306
CREATED:20250104T200519Z
LAST-MODIFIED:20250106T220223Z
UID:432916-1736276400-1736280000@www.area83aa.org
SUMMARY:Area 83 Corrections Meeting
DESCRIPTION:Area 83 Monthly Corrections Meeting \nHeld on the first Tuesday of every month at 7:00 p.m. \nThis meeting is open to all members with an interest in Corrections in Area 83. \nCorrections Webpage \nZoom Link \nMeeting ID: 891 3119 5780\nPasscode: 320308
URL:https://www.area83aa.org/event/area-83-corrections-meeting/
LOCATION:Virtual\, Ontario\, Canada
CATEGORIES:Corrections Committee,District Events
ORGANIZER;CN="Area 83 Corrections Chair":MAILTO:cf@area83aa.org
END:VEVENT
BEGIN:VEVENT
DTSTART;TZID=America/Toronto:20250309T123000
DTEND;TZID=America/Toronto:20250309T143000
DTSTAMP:20260423T060306
CREATED:20250228T185333Z
LAST-MODIFIED:20250228T185350Z
UID:436526-1741523400-1741530600@www.area83aa.org
SUMMARY:District 28 Meeting
DESCRIPTION:A business Meeting for District 28 GSR’s \nSecond Sunday of every month @ 12:30 p.m.
URL:https://www.area83aa.org/event/district-28-meeting/
LOCATION:Connaught Park Clubhouse\, 435 Jarvis Street\, Oshawa\, Ontario\, L1G 5L3\, Canada
CATEGORIES:District 28
ORGANIZER;CN="District 28 DCM":MAILTO:district28@area83aa.org
END:VEVENT
BEGIN:VEVENT
DTSTART;TZID=America/Toronto:20250413T130000
DTEND;TZID=America/Toronto:20250413T150000
DTSTAMP:20260423T060306
CREATED:20250403T141549Z
LAST-MODIFIED:20250403T151124Z
UID:436852-1744549200-1744556400@www.area83aa.org
SUMMARY:District 22 Monthly Meeting (Hybrid)
DESCRIPTION:District 22 Monthly Meeting (Hybrid)\n\nZoom Meeting ID: 83964064687 \nPasscode:228322
URL:https://www.area83aa.org/event/district-22-monthly-meeting-hybrid/
LOCATION:Don Montgomery Community Centre\, 2467 Eglinton Ave. E.\, Scarborough\, Ontario\, Canada
CATEGORIES:District 22
ORGANIZER;CN="District 22 DCM":MAILTO:district22@area83aa.org
END:VEVENT
BEGIN:VEVENT
DTSTART;TZID=America/Toronto:20250112T190000
DTEND;TZID=America/Toronto:20250112T200000
DTSTAMP:20260423T060306
CREATED:20250206T135546Z
LAST-MODIFIED:20250206T135827Z
UID:434187-1736708400-1736712000@www.area83aa.org
SUMMARY:District 78 Meeting
DESCRIPTION:District 78 Madawaska Meeting \nSecond Sunday of every month at 7:00 p.m. \nThese meetings are virtual only. \nMeeting ID: 871 5790 1430 \nPass Code: 241133
URL:https://www.area83aa.org/event/district-78-meeting-2/
LOCATION:Virtual\, Ontario\, Canada
CATEGORIES:District 78
ORGANIZER;CN="District 78 DCM":MAILTO:district78@area83aa.org
END:VEVENT
BEGIN:VEVENT
DTSTART;TZID=America/Toronto:20250114T180000
DTEND;TZID=America/Toronto:20250114T203000
DTSTAMP:20260423T060306
CREATED:20250117T220503Z
LAST-MODIFIED:20250117T221006Z
UID:433497-1736877600-1736886600@www.area83aa.org
SUMMARY:District 10 Meeting
DESCRIPTION:District 10 Meeting \nEvery Second Tuesday of the month \n6:00 p.m. to 8:30 p.m. \n\nMeeting ID: 527 611 421\nPasscode: 685869
URL:https://www.area83aa.org/event/district-10-meeting-2/
LOCATION:Virtual\, Ontario\, Canada
CATEGORIES:District 10
END:VEVENT
BEGIN:VEVENT
DTSTART;TZID=America/Toronto:20241009T190000
DTEND;TZID=America/Toronto:20241009T203000
DTSTAMP:20260423T060306
CREATED:20241003T122356Z
LAST-MODIFIED:20250401T145118Z
UID:428808-1728500400-1728505800@www.area83aa.org
SUMMARY:District 12 Meeting
DESCRIPTION:District 12 Toronto Southwest Meetings \n2nd Wednesday of every month @ 7:00 p.m. \nVirtually \nZoom Link \nMeeting ID: 871 0328 6124\nPasscode: 550732\nDial in Canada\n+1 647 558 0588
URL:https://www.area83aa.org/event/district-12-meeting/
LOCATION:Virtual\, Ontario\, Canada
CATEGORIES:District 12
ORGANIZER;CN="District 12 DCM":MAILTO:district12@area83aa.org
END:VEVENT
BEGIN:VEVENT
DTSTART;TZID=America/Toronto:20241016T190000
DTEND;TZID=America/Toronto:20241016T203000
DTSTAMP:20260423T060306
CREATED:20241007T120952Z
LAST-MODIFIED:20250130T160044Z
UID:428873-1729105200-1729110600@www.area83aa.org
SUMMARY:District 06 Meeting
DESCRIPTION:District 06 Business Meeting (Hybrid) \nMeeting ID: 958 1044 6119\nPasscode: 060606
URL:https://www.area83aa.org/event/district-06-meeting/
LOCATION:Bloordale United Church\, 4258 Bloordale Street West\, Etobicoke\, Ontario\, M9C 1Z7\, Canada
CATEGORIES:District 06
END:VEVENT
BEGIN:VEVENT
DTSTART;TZID=America/Toronto:20250902T174500
DTEND;TZID=America/Toronto:20250902T190000
DTSTAMP:20260423T060306
CREATED:20250808T010155Z
LAST-MODIFIED:20250808T011106Z
UID:437416-1756835100-1756839600@www.area83aa.org
SUMMARY:District 50 Meeting
DESCRIPTION:District 50 Meeting\nFirst Tuesday of each month at 5:45 p.m. \n\nClick to join the meeting.\n\n\nMeeting ID: 822 4882 4629\nPasscode: 503519
URL:https://www.area83aa.org/event/district-50-meeting-2-2/
LOCATION:Virtual\, Ontario\, Canada
CATEGORIES:Area 83 Events,District 50
END:VEVENT
BEGIN:VEVENT
DTSTART;TZID=America/Toronto:20250107T190000
DTEND;TZID=America/Toronto:20250107T200000
DTSTAMP:20260423T060306
CREATED:20250104T200519Z
LAST-MODIFIED:20250106T220223Z
UID:432916-1736276400-1736280000@www.area83aa.org
SUMMARY:Area 83 Corrections Meeting
DESCRIPTION:Area 83 Monthly Corrections Meeting \nHeld on the first Tuesday of every month at 7:00 p.m. \nThis meeting is open to all members with an interest in Corrections in Area 83. \nCorrections Webpage \nZoom Link \nMeeting ID: 891 3119 5780\nPasscode: 320308
URL:https://www.area83aa.org/event/area-83-corrections-meeting/
LOCATION:Virtual\, Ontario\, Canada
CATEGORIES:Corrections Committee,District Events
ORGANIZER;CN="Area 83 Corrections Chair":MAILTO:cf@area83aa.org
END:VEVENT
BEGIN:VEVENT
DTSTART;TZID=America/Toronto:20250114T180000
DTEND;TZID=America/Toronto:20250114T203000
DTSTAMP:20260423T060306
CREATED:20250117T220503Z
LAST-MODIFIED:20250117T221006Z
UID:433497-1736877600-1736886600@www.area83aa.org
SUMMARY:District 10 Meeting
DESCRIPTION:District 10 Meeting \nEvery Second Tuesday of the month \n6:00 p.m. to 8:30 p.m. \n\nMeeting ID: 527 611 421\nPasscode: 685869
URL:https://www.area83aa.org/event/district-10-meeting-2/
LOCATION:Virtual\, Ontario\, Canada
CATEGORIES:District 10
END:VEVENT
BEGIN:VEVENT
DTSTART;TZID=America/Toronto:20241009T190000
DTEND;TZID=America/Toronto:20241009T203000
DTSTAMP:20260423T060306
CREATED:20241003T122356Z
LAST-MODIFIED:20250401T145118Z
UID:428808-1728500400-1728505800@www.area83aa.org
SUMMARY:District 12 Meeting
DESCRIPTION:District 12 Toronto Southwest Meetings \n2nd Wednesday of every month @ 7:00 p.m. \nVirtually \nZoom Link \nMeeting ID: 871 0328 6124\nPasscode: 550732\nDial in Canada\n+1 647 558 0588
URL:https://www.area83aa.org/event/district-12-meeting/
LOCATION:Virtual\, Ontario\, Canada
CATEGORIES:District 12
ORGANIZER;CN="District 12 DCM":MAILTO:district12@area83aa.org
END:VEVENT
BEGIN:VEVENT
DTSTART;TZID=America/Toronto:20250309T123000
DTEND;TZID=America/Toronto:20250309T143000
DTSTAMP:20260423T060306
CREATED:20250228T185333Z
LAST-MODIFIED:20250228T185350Z
UID:436526-1741523400-1741530600@www.area83aa.org
SUMMARY:District 28 Meeting
DESCRIPTION:A business Meeting for District 28 GSR’s \nSecond Sunday of every month @ 12:30 p.m.
URL:https://www.area83aa.org/event/district-28-meeting/
LOCATION:Connaught Park Clubhouse\, 435 Jarvis Street\, Oshawa\, Ontario\, L1G 5L3\, Canada
CATEGORIES:District 28
ORGANIZER;CN="District 28 DCM":MAILTO:district28@area83aa.org
END:VEVENT
BEGIN:VEVENT
DTSTART;TZID=America/Toronto:20250413T130000
DTEND;TZID=America/Toronto:20250413T150000
DTSTAMP:20260423T060306
CREATED:20250403T141549Z
LAST-MODIFIED:20250403T151124Z
UID:436852-1744549200-1744556400@www.area83aa.org
SUMMARY:District 22 Monthly Meeting (Hybrid)
DESCRIPTION:District 22 Monthly Meeting (Hybrid)\n\nZoom Meeting ID: 83964064687 \nPasscode:228322
URL:https://www.area83aa.org/event/district-22-monthly-meeting-hybrid/
LOCATION:Don Montgomery Community Centre\, 2467 Eglinton Ave. E.\, Scarborough\, Ontario\, Canada
CATEGORIES:District 22
ORGANIZER;CN="District 22 DCM":MAILTO:district22@area83aa.org
END:VEVENT
BEGIN:VEVENT
DTSTART;TZID=America/Toronto:20250112T190000
DTEND;TZID=America/Toronto:20250112T200000
DTSTAMP:20260423T060306
CREATED:20250206T135546Z
LAST-MODIFIED:20250206T135827Z
UID:434187-1736708400-1736712000@www.area83aa.org
SUMMARY:District 78 Meeting
DESCRIPTION:District 78 Madawaska Meeting \nSecond Sunday of every month at 7:00 p.m. \nThese meetings are virtual only. \nMeeting ID: 871 5790 1430 \nPass Code: 241133
URL:https://www.area83aa.org/event/district-78-meeting-2/
LOCATION:Virtual\, Ontario\, Canada
CATEGORIES:District 78
ORGANIZER;CN="District 78 DCM":MAILTO:district78@area83aa.org
END:VEVENT
BEGIN:VEVENT
DTSTART;TZID=America/Toronto:20241016T190000
DTEND;TZID=America/Toronto:20241016T203000
DTSTAMP:20260423T060306
CREATED:20241007T120952Z
LAST-MODIFIED:20250130T160044Z
UID:428873-1729105200-1729110600@www.area83aa.org
SUMMARY:District 06 Meeting
DESCRIPTION:District 06 Business Meeting (Hybrid) \nMeeting ID: 958 1044 6119\nPasscode: 060606
URL:https://www.area83aa.org/event/district-06-meeting/
LOCATION:Bloordale United Church\, 4258 Bloordale Street West\, Etobicoke\, Ontario\, M9C 1Z7\, Canada
CATEGORIES:District 06
END:VEVENT
BEGIN:VEVENT
DTSTART;TZID=America/Toronto:20250902T174500
DTEND;TZID=America/Toronto:20250902T190000
DTSTAMP:20260423T060306
CREATED:20250808T010155Z
LAST-MODIFIED:20250808T011106Z
UID:437416-1756835100-1756839600@www.area83aa.org
SUMMARY:District 50 Meeting
DESCRIPTION:District 50 Meeting\nFirst Tuesday of each month at 5:45 p.m. \n\nClick to join the meeting.\n\n\nMeeting ID: 822 4882 4629\nPasscode: 503519
URL:https://www.area83aa.org/event/district-50-meeting-2-2/
LOCATION:Virtual\, Ontario\, Canada
CATEGORIES:Area 83 Events,District 50
END:VEVENT
BEGIN:VEVENT
DTSTART;TZID=America/Toronto:20250107T190000
DTEND;TZID=America/Toronto:20250107T200000
DTSTAMP:20260423T060306
CREATED:20250104T200519Z
LAST-MODIFIED:20250106T220223Z
UID:432916-1736276400-1736280000@www.area83aa.org
SUMMARY:Area 83 Corrections Meeting
DESCRIPTION:Area 83 Monthly Corrections Meeting \nHeld on the first Tuesday of every month at 7:00 p.m. \nThis meeting is open to all members with an interest in Corrections in Area 83. \nCorrections Webpage \nZoom Link \nMeeting ID: 891 3119 5780\nPasscode: 320308
URL:https://www.area83aa.org/event/area-83-corrections-meeting/
LOCATION:Virtual\, Ontario\, Canada
CATEGORIES:Corrections Committee,District Events
ORGANIZER;CN="Area 83 Corrections Chair":MAILTO:cf@area83aa.org
END:VEVENT
BEGIN:VEVENT
DTSTART;TZID=America/Toronto:20241009T190000
DTEND;TZID=America/Toronto:20241009T203000
DTSTAMP:20260423T060306
CREATED:20241003T122356Z
LAST-MODIFIED:20250401T145118Z
UID:428808-1728500400-1728505800@www.area83aa.org
SUMMARY:District 12 Meeting
DESCRIPTION:District 12 Toronto Southwest Meetings \n2nd Wednesday of every month @ 7:00 p.m. \nVirtually \nZoom Link \nMeeting ID: 871 0328 6124\nPasscode: 550732\nDial in Canada\n+1 647 558 0588
URL:https://www.area83aa.org/event/district-12-meeting/
LOCATION:Virtual\, Ontario\, Canada
CATEGORIES:District 12
ORGANIZER;CN="District 12 DCM":MAILTO:district12@area83aa.org
END:VEVENT
BEGIN:VEVENT
DTSTART;TZID=America/Toronto:20250309T123000
DTEND;TZID=America/Toronto:20250309T143000
DTSTAMP:20260423T060306
CREATED:20250228T185333Z
LAST-MODIFIED:20250228T185350Z
UID:436526-1741523400-1741530600@www.area83aa.org
SUMMARY:District 28 Meeting
DESCRIPTION:A business Meeting for District 28 GSR’s \nSecond Sunday of every month @ 12:30 p.m.
URL:https://www.area83aa.org/event/district-28-meeting/
LOCATION:Connaught Park Clubhouse\, 435 Jarvis Street\, Oshawa\, Ontario\, L1G 5L3\, Canada
CATEGORIES:District 28
ORGANIZER;CN="District 28 DCM":MAILTO:district28@area83aa.org
END:VEVENT
BEGIN:VEVENT
DTSTART;TZID=America/Toronto:20250413T130000
DTEND;TZID=America/Toronto:20250413T150000
DTSTAMP:20260423T060306
CREATED:20250403T141549Z
LAST-MODIFIED:20250403T151124Z
UID:436852-1744549200-1744556400@www.area83aa.org
SUMMARY:District 22 Monthly Meeting (Hybrid)
DESCRIPTION:District 22 Monthly Meeting (Hybrid)\n\nZoom Meeting ID: 83964064687 \nPasscode:228322
URL:https://www.area83aa.org/event/district-22-monthly-meeting-hybrid/
LOCATION:Don Montgomery Community Centre\, 2467 Eglinton Ave. E.\, Scarborough\, Ontario\, Canada
CATEGORIES:District 22
ORGANIZER;CN="District 22 DCM":MAILTO:district22@area83aa.org
END:VEVENT
BEGIN:VEVENT
DTSTART;TZID=America/Toronto:20250112T190000
DTEND;TZID=America/Toronto:20250112T200000
DTSTAMP:20260423T060306
CREATED:20250206T135546Z
LAST-MODIFIED:20250206T135827Z
UID:434187-1736708400-1736712000@www.area83aa.org
SUMMARY:District 78 Meeting
DESCRIPTION:District 78 Madawaska Meeting \nSecond Sunday of every month at 7:00 p.m. \nThese meetings are virtual only. \nMeeting ID: 871 5790 1430 \nPass Code: 241133
URL:https://www.area83aa.org/event/district-78-meeting-2/
LOCATION:Virtual\, Ontario\, Canada
CATEGORIES:District 78
ORGANIZER;CN="District 78 DCM":MAILTO:district78@area83aa.org
END:VEVENT
BEGIN:VEVENT
DTSTART;TZID=America/Toronto:20250114T180000
DTEND;TZID=America/Toronto:20250114T203000
DTSTAMP:20260423T060306
CREATED:20250117T220503Z
LAST-MODIFIED:20250117T221006Z
UID:433497-1736877600-1736886600@www.area83aa.org
SUMMARY:District 10 Meeting
DESCRIPTION:District 10 Meeting \nEvery Second Tuesday of the month \n6:00 p.m. to 8:30 p.m. \n\nMeeting ID: 527 611 421\nPasscode: 685869
URL:https://www.area83aa.org/event/district-10-meeting-2/
LOCATION:Virtual\, Ontario\, Canada
CATEGORIES:District 10
END:VEVENT
BEGIN:VEVENT
DTSTART;TZID=America/Toronto:20241016T190000
DTEND;TZID=America/Toronto:20241016T203000
DTSTAMP:20260423T060306
CREATED:20241007T120952Z
LAST-MODIFIED:20250130T160044Z
UID:428873-1729105200-1729110600@www.area83aa.org
SUMMARY:District 06 Meeting
DESCRIPTION:District 06 Business Meeting (Hybrid) \nMeeting ID: 958 1044 6119\nPasscode: 060606
URL:https://www.area83aa.org/event/district-06-meeting/
LOCATION:Bloordale United Church\, 4258 Bloordale Street West\, Etobicoke\, Ontario\, M9C 1Z7\, Canada
CATEGORIES:District 06
END:VEVENT
BEGIN:VEVENT
DTSTART;TZID=America/Toronto:20250902T174500
DTEND;TZID=America/Toronto:20250902T190000
DTSTAMP:20260423T060306
CREATED:20250808T010155Z
LAST-MODIFIED:20250808T011106Z
UID:437416-1756835100-1756839600@www.area83aa.org
SUMMARY:District 50 Meeting
DESCRIPTION:District 50 Meeting\nFirst Tuesday of each month at 5:45 p.m. \n\nClick to join the meeting.\n\n\nMeeting ID: 822 4882 4629\nPasscode: 503519
URL:https://www.area83aa.org/event/district-50-meeting-2-2/
LOCATION:Virtual\, Ontario\, Canada
CATEGORIES:Area 83 Events,District 50
END:VEVENT
BEGIN:VEVENT
DTSTART;TZID=America/Toronto:20250107T190000
DTEND;TZID=America/Toronto:20250107T200000
DTSTAMP:20260423T060306
CREATED:20250104T200519Z
LAST-MODIFIED:20250106T220223Z
UID:432916-1736276400-1736280000@www.area83aa.org
SUMMARY:Area 83 Corrections Meeting
DESCRIPTION:Area 83 Monthly Corrections Meeting \nHeld on the first Tuesday of every month at 7:00 p.m. \nThis meeting is open to all members with an interest in Corrections in Area 83. \nCorrections Webpage \nZoom Link \nMeeting ID: 891 3119 5780\nPasscode: 320308
URL:https://www.area83aa.org/event/area-83-corrections-meeting/
LOCATION:Virtual\, Ontario\, Canada
CATEGORIES:Corrections Committee,District Events
ORGANIZER;CN="Area 83 Corrections Chair":MAILTO:cf@area83aa.org
END:VEVENT
BEGIN:VEVENT
DTSTART;TZID=America/Toronto:20250309T123000
DTEND;TZID=America/Toronto:20250309T143000
DTSTAMP:20260423T060306
CREATED:20250228T185333Z
LAST-MODIFIED:20250228T185350Z
UID:436526-1741523400-1741530600@www.area83aa.org
SUMMARY:District 28 Meeting
DESCRIPTION:A business Meeting for District 28 GSR’s \nSecond Sunday of every month @ 12:30 p.m.
URL:https://www.area83aa.org/event/district-28-meeting/
LOCATION:Connaught Park Clubhouse\, 435 Jarvis Street\, Oshawa\, Ontario\, L1G 5L3\, Canada
CATEGORIES:District 28
ORGANIZER;CN="District 28 DCM":MAILTO:district28@area83aa.org
END:VEVENT
BEGIN:VEVENT
DTSTART;TZID=America/Toronto:20250413T130000
DTEND;TZID=America/Toronto:20250413T150000
DTSTAMP:20260423T060306
CREATED:20250403T141549Z
LAST-MODIFIED:20250403T151124Z
UID:436852-1744549200-1744556400@www.area83aa.org
SUMMARY:District 22 Monthly Meeting (Hybrid)
DESCRIPTION:District 22 Monthly Meeting (Hybrid)\n\nZoom Meeting ID: 83964064687 \nPasscode:228322
URL:https://www.area83aa.org/event/district-22-monthly-meeting-hybrid/
LOCATION:Don Montgomery Community Centre\, 2467 Eglinton Ave. E.\, Scarborough\, Ontario\, Canada
CATEGORIES:District 22
ORGANIZER;CN="District 22 DCM":MAILTO:district22@area83aa.org
END:VEVENT
END:VCALENDAR