BEGIN:VCALENDAR
VERSION:2.0
PRODID:-//Area 83 Alcoholics Anonymous - ECPv6.15.20//NONSGML v1.0//EN
CALSCALE:GREGORIAN
METHOD:PUBLISH
X-ORIGINAL-URL:https://www.area83aa.org
X-WR-CALDESC:Events for Area 83 Alcoholics Anonymous
REFRESH-INTERVAL;VALUE=DURATION:PT1H
X-Robots-Tag:noindex
X-PUBLISHED-TTL:PT1H
BEGIN:VTIMEZONE
TZID:America/Toronto
BEGIN:DAYLIGHT
TZOFFSETFROM:-0500
TZOFFSETTO:-0400
TZNAME:EDT
DTSTART:20230312T070000
END:DAYLIGHT
BEGIN:STANDARD
TZOFFSETFROM:-0400
TZOFFSETTO:-0500
TZNAME:EST
DTSTART:20231105T060000
END:STANDARD
BEGIN:DAYLIGHT
TZOFFSETFROM:-0500
TZOFFSETTO:-0400
TZNAME:EDT
DTSTART:20240310T070000
END:DAYLIGHT
BEGIN:STANDARD
TZOFFSETFROM:-0400
TZOFFSETTO:-0500
TZNAME:EST
DTSTART:20241103T060000
END:STANDARD
BEGIN:DAYLIGHT
TZOFFSETFROM:-0500
TZOFFSETTO:-0400
TZNAME:EDT
DTSTART:20250309T070000
END:DAYLIGHT
BEGIN:STANDARD
TZOFFSETFROM:-0400
TZOFFSETTO:-0500
TZNAME:EST
DTSTART:20251102T060000
END:STANDARD
BEGIN:DAYLIGHT
TZOFFSETFROM:-0500
TZOFFSETTO:-0400
TZNAME:EDT
DTSTART:20260308T070000
END:DAYLIGHT
BEGIN:STANDARD
TZOFFSETFROM:-0400
TZOFFSETTO:-0500
TZNAME:EST
DTSTART:20261101T060000
END:STANDARD
BEGIN:DAYLIGHT
TZOFFSETFROM:-0500
TZOFFSETTO:-0400
TZNAME:EDT
DTSTART:20270314T070000
END:DAYLIGHT
BEGIN:STANDARD
TZOFFSETFROM:-0400
TZOFFSETTO:-0500
TZNAME:EST
DTSTART:20271107T060000
END:STANDARD
END:VTIMEZONE
BEGIN:VEVENT
DTSTART;TZID=America/Toronto:20250126T130000
DTEND;TZID=America/Toronto:20250126T143000
DTSTAMP:20260423T132600
CREATED:20250121T203202Z
LAST-MODIFIED:20250121T203202Z
UID:433655-1737896400-1737901800@www.area83aa.org
SUMMARY:Inter-Area Remote Communities Workgroup
DESCRIPTION:Time: 01:00 PM – 2:30 PM Eastern Time (US and Canada)\nFourth Sunday of every month \n\n\nClick to Join the Meeting
URL:https://www.area83aa.org/event/inter-area-remote-communities-workgroup/
LOCATION:Virtual\, Ontario\, Canada
CATEGORIES:Service Meeting or Workshop,Special Event
ORGANIZER;CN="Area 83 Alternate Delegate":MAILTO:alt.delegate@area83aa.org
END:VEVENT
BEGIN:VEVENT
DTSTART;TZID=America/Toronto:20250126T130000
DTEND;TZID=America/Toronto:20250126T143000
DTSTAMP:20260423T132600
CREATED:20250121T203202Z
LAST-MODIFIED:20250121T203202Z
UID:433655-1737896400-1737901800@www.area83aa.org
SUMMARY:Inter-Area Remote Communities Workgroup
DESCRIPTION:Time: 01:00 PM – 2:30 PM Eastern Time (US and Canada)\nFourth Sunday of every month \n\n\nClick to Join the Meeting
URL:https://www.area83aa.org/event/inter-area-remote-communities-workgroup/
LOCATION:Virtual\, Ontario\, Canada
CATEGORIES:Service Meeting or Workshop,Special Event
ORGANIZER;CN="Area 83 Alternate Delegate":MAILTO:alt.delegate@area83aa.org
END:VEVENT
BEGIN:VEVENT
DTSTART;TZID=America/Toronto:20250126T130000
DTEND;TZID=America/Toronto:20250126T143000
DTSTAMP:20260423T132600
CREATED:20250121T203202Z
LAST-MODIFIED:20250121T203202Z
UID:433655-1737896400-1737901800@www.area83aa.org
SUMMARY:Inter-Area Remote Communities Workgroup
DESCRIPTION:Time: 01:00 PM – 2:30 PM Eastern Time (US and Canada)\nFourth Sunday of every month \n\n\nClick to Join the Meeting
URL:https://www.area83aa.org/event/inter-area-remote-communities-workgroup/
LOCATION:Virtual\, Ontario\, Canada
CATEGORIES:Service Meeting or Workshop,Special Event
ORGANIZER;CN="Area 83 Alternate Delegate":MAILTO:alt.delegate@area83aa.org
END:VEVENT
BEGIN:VEVENT
DTSTART;TZID=America/Toronto:20251231T200000
DTEND;TZID=America/Toronto:20260101T003000
DTSTAMP:20260423T132600
CREATED:20251019T181843Z
LAST-MODIFIED:20251028T215708Z
UID:437998-1767211200-1767227400@www.area83aa.org
SUMMARY:Sober Sparkle New Years Bash!
DESCRIPTION:Save the Date! \nCome join us in Pembroke to ring in the New Year! \nDetails here.
URL:https://www.area83aa.org/event/sober-sparkle-new-years-bash/
LOCATION:Holy Name Annex\, 295 1st Ave North\, Pembroke\, Ontario\, K8A 5A8\, Canada
CATEGORIES:District 48,District 54,District 62,District 70,District 74,District 78,Special Event
ORGANIZER;CN="District 74 Events Chair":MAILTO:events@pembrokeaa.org
END:VEVENT
BEGIN:VEVENT
DTSTART;TZID=America/Toronto:20250126T130000
DTEND;TZID=America/Toronto:20250126T143000
DTSTAMP:20260423T132600
CREATED:20250121T203202Z
LAST-MODIFIED:20250121T203202Z
UID:433655-1737896400-1737901800@www.area83aa.org
SUMMARY:Inter-Area Remote Communities Workgroup
DESCRIPTION:Time: 01:00 PM – 2:30 PM Eastern Time (US and Canada)\nFourth Sunday of every month \n\n\nClick to Join the Meeting
URL:https://www.area83aa.org/event/inter-area-remote-communities-workgroup/
LOCATION:Virtual\, Ontario\, Canada
CATEGORIES:Service Meeting or Workshop,Special Event
ORGANIZER;CN="Area 83 Alternate Delegate":MAILTO:alt.delegate@area83aa.org
END:VEVENT
BEGIN:VEVENT
DTSTART;TZID=America/Toronto:20250126T130000
DTEND;TZID=America/Toronto:20250126T143000
DTSTAMP:20260423T132600
CREATED:20250121T203202Z
LAST-MODIFIED:20250121T203202Z
UID:433655-1737896400-1737901800@www.area83aa.org
SUMMARY:Inter-Area Remote Communities Workgroup
DESCRIPTION:Time: 01:00 PM – 2:30 PM Eastern Time (US and Canada)\nFourth Sunday of every month \n\n\nClick to Join the Meeting
URL:https://www.area83aa.org/event/inter-area-remote-communities-workgroup/
LOCATION:Virtual\, Ontario\, Canada
CATEGORIES:Service Meeting or Workshop,Special Event
ORGANIZER;CN="Area 83 Alternate Delegate":MAILTO:alt.delegate@area83aa.org
END:VEVENT
BEGIN:VEVENT
DTSTART;TZID=America/Toronto:20250126T130000
DTEND;TZID=America/Toronto:20250126T143000
DTSTAMP:20260423T132600
CREATED:20250121T203202Z
LAST-MODIFIED:20250121T203202Z
UID:433655-1737896400-1737901800@www.area83aa.org
SUMMARY:Inter-Area Remote Communities Workgroup
DESCRIPTION:Time: 01:00 PM – 2:30 PM Eastern Time (US and Canada)\nFourth Sunday of every month \n\n\nClick to Join the Meeting
URL:https://www.area83aa.org/event/inter-area-remote-communities-workgroup/
LOCATION:Virtual\, Ontario\, Canada
CATEGORIES:Service Meeting or Workshop,Special Event
ORGANIZER;CN="Area 83 Alternate Delegate":MAILTO:alt.delegate@area83aa.org
END:VEVENT
BEGIN:VEVENT
DTSTART;TZID=America/Toronto:20250126T130000
DTEND;TZID=America/Toronto:20250126T143000
DTSTAMP:20260423T132600
CREATED:20250121T203202Z
LAST-MODIFIED:20250121T203202Z
UID:433655-1737896400-1737901800@www.area83aa.org
SUMMARY:Inter-Area Remote Communities Workgroup
DESCRIPTION:Time: 01:00 PM – 2:30 PM Eastern Time (US and Canada)\nFourth Sunday of every month \n\n\nClick to Join the Meeting
URL:https://www.area83aa.org/event/inter-area-remote-communities-workgroup/
LOCATION:Virtual\, Ontario\, Canada
CATEGORIES:Service Meeting or Workshop,Special Event
ORGANIZER;CN="Area 83 Alternate Delegate":MAILTO:alt.delegate@area83aa.org
END:VEVENT
BEGIN:VEVENT
DTSTART;TZID=America/Toronto:20250927T110000
DTEND;TZID=America/Toronto:20250927T160000
DTSTAMP:20260423T132600
CREATED:20250817T175358Z
LAST-MODIFIED:20250818T172410Z
UID:437488-1758970800-1758988800@www.area83aa.org
SUMMARY:District 74 Baseball & Pig Roast
DESCRIPTION:Come and join us for the Annual Pig Roast and Baseball Game in District 74! \nTickets are $10. Please contact your GSR for more information. \nD74_Pigroast_Flyer_2025
URL:https://www.area83aa.org/event/district-74-baseball-pig-roast/
LOCATION:Stafford Park\, 641 Third Ave South\, Pembroke\, Ontario\, K8A 7A5\, Canada
CATEGORIES:District 74,Special Event
ORGANIZER;CN="District 74 Events Chair":MAILTO:events@pembrokeaa.org
END:VEVENT
BEGIN:VEVENT
DTSTART;TZID=America/Toronto:20250126T130000
DTEND;TZID=America/Toronto:20250126T143000
DTSTAMP:20260423T132600
CREATED:20250121T203202Z
LAST-MODIFIED:20250121T203202Z
UID:433655-1737896400-1737901800@www.area83aa.org
SUMMARY:Inter-Area Remote Communities Workgroup
DESCRIPTION:Time: 01:00 PM – 2:30 PM Eastern Time (US and Canada)\nFourth Sunday of every month \n\n\nClick to Join the Meeting
URL:https://www.area83aa.org/event/inter-area-remote-communities-workgroup/
LOCATION:Virtual\, Ontario\, Canada
CATEGORIES:Service Meeting or Workshop,Special Event
ORGANIZER;CN="Area 83 Alternate Delegate":MAILTO:alt.delegate@area83aa.org
END:VEVENT
BEGIN:VEVENT
DTSTART;TZID=America/Toronto:20250126T130000
DTEND;TZID=America/Toronto:20250126T143000
DTSTAMP:20260423T132600
CREATED:20250121T203202Z
LAST-MODIFIED:20250121T203202Z
UID:433655-1737896400-1737901800@www.area83aa.org
SUMMARY:Inter-Area Remote Communities Workgroup
DESCRIPTION:Time: 01:00 PM – 2:30 PM Eastern Time (US and Canada)\nFourth Sunday of every month \n\n\nClick to Join the Meeting
URL:https://www.area83aa.org/event/inter-area-remote-communities-workgroup/
LOCATION:Virtual\, Ontario\, Canada
CATEGORIES:Service Meeting or Workshop,Special Event
ORGANIZER;CN="Area 83 Alternate Delegate":MAILTO:alt.delegate@area83aa.org
END:VEVENT
BEGIN:VEVENT
DTSTART;TZID=America/Toronto:20250126T130000
DTEND;TZID=America/Toronto:20250126T143000
DTSTAMP:20260423T132600
CREATED:20250121T203202Z
LAST-MODIFIED:20250121T203202Z
UID:433655-1737896400-1737901800@www.area83aa.org
SUMMARY:Inter-Area Remote Communities Workgroup
DESCRIPTION:Time: 01:00 PM – 2:30 PM Eastern Time (US and Canada)\nFourth Sunday of every month \n\n\nClick to Join the Meeting
URL:https://www.area83aa.org/event/inter-area-remote-communities-workgroup/
LOCATION:Virtual\, Ontario\, Canada
CATEGORIES:Service Meeting or Workshop,Special Event
ORGANIZER;CN="Area 83 Alternate Delegate":MAILTO:alt.delegate@area83aa.org
END:VEVENT
BEGIN:VEVENT
DTSTART;TZID=America/Toronto:20250126T130000
DTEND;TZID=America/Toronto:20250126T143000
DTSTAMP:20260423T132600
CREATED:20250121T203202Z
LAST-MODIFIED:20250121T203202Z
UID:433655-1737896400-1737901800@www.area83aa.org
SUMMARY:Inter-Area Remote Communities Workgroup
DESCRIPTION:Time: 01:00 PM – 2:30 PM Eastern Time (US and Canada)\nFourth Sunday of every month \n\n\nClick to Join the Meeting
URL:https://www.area83aa.org/event/inter-area-remote-communities-workgroup/
LOCATION:Virtual\, Ontario\, Canada
CATEGORIES:Service Meeting or Workshop,Special Event
ORGANIZER;CN="Area 83 Alternate Delegate":MAILTO:alt.delegate@area83aa.org
END:VEVENT
BEGIN:VEVENT
DTSTART;TZID=America/Toronto:20250510T000000
DTEND;TZID=America/Toronto:20250510T235900
DTSTAMP:20260423T132600
CREATED:20250311T142920Z
LAST-MODIFIED:20250323T162411Z
UID:436619-1746835200-1746921540@www.area83aa.org
SUMMARY:Ottawa Spring Conference
DESCRIPTION:
URL:https://www.area83aa.org/event/ottawa-spring-conference/
LOCATION:Hellenic Banquet Centre\, Prince of Wales Drive\, Ottawa\, Ontario\, K2C 1N2\, Canada
CATEGORIES:District 54,Special Event
ORGANIZER;CN="District 54 DCM":MAILTO:district54@area83aa.org
END:VEVENT
BEGIN:VEVENT
DTSTART;TZID=America/Toronto:20250126T130000
DTEND;TZID=America/Toronto:20250126T143000
DTSTAMP:20260423T132600
CREATED:20250121T203202Z
LAST-MODIFIED:20250121T203202Z
UID:433655-1737896400-1737901800@www.area83aa.org
SUMMARY:Inter-Area Remote Communities Workgroup
DESCRIPTION:Time: 01:00 PM – 2:30 PM Eastern Time (US and Canada)\nFourth Sunday of every month \n\n\nClick to Join the Meeting
URL:https://www.area83aa.org/event/inter-area-remote-communities-workgroup/
LOCATION:Virtual\, Ontario\, Canada
CATEGORIES:Service Meeting or Workshop,Special Event
ORGANIZER;CN="Area 83 Alternate Delegate":MAILTO:alt.delegate@area83aa.org
END:VEVENT
BEGIN:VEVENT
DTSTART;TZID=America/Toronto:20250126T130000
DTEND;TZID=America/Toronto:20250126T143000
DTSTAMP:20260423T132600
CREATED:20250121T203202Z
LAST-MODIFIED:20250121T203202Z
UID:433655-1737896400-1737901800@www.area83aa.org
SUMMARY:Inter-Area Remote Communities Workgroup
DESCRIPTION:Time: 01:00 PM – 2:30 PM Eastern Time (US and Canada)\nFourth Sunday of every month \n\n\nClick to Join the Meeting
URL:https://www.area83aa.org/event/inter-area-remote-communities-workgroup/
LOCATION:Virtual\, Ontario\, Canada
CATEGORIES:Service Meeting or Workshop,Special Event
ORGANIZER;CN="Area 83 Alternate Delegate":MAILTO:alt.delegate@area83aa.org
END:VEVENT
BEGIN:VEVENT
DTSTART;TZID=America/Toronto:20250126T130000
DTEND;TZID=America/Toronto:20250126T143000
DTSTAMP:20260423T132600
CREATED:20250121T203202Z
LAST-MODIFIED:20250121T203202Z
UID:433655-1737896400-1737901800@www.area83aa.org
SUMMARY:Inter-Area Remote Communities Workgroup
DESCRIPTION:Time: 01:00 PM – 2:30 PM Eastern Time (US and Canada)\nFourth Sunday of every month \n\n\nClick to Join the Meeting
URL:https://www.area83aa.org/event/inter-area-remote-communities-workgroup/
LOCATION:Virtual\, Ontario\, Canada
CATEGORIES:Service Meeting or Workshop,Special Event
ORGANIZER;CN="Area 83 Alternate Delegate":MAILTO:alt.delegate@area83aa.org
END:VEVENT
BEGIN:VEVENT
DTSTART;TZID=America/Toronto:20250126T130000
DTEND;TZID=America/Toronto:20250126T143000
DTSTAMP:20260423T132600
CREATED:20250121T203202Z
LAST-MODIFIED:20250121T203202Z
UID:433655-1737896400-1737901800@www.area83aa.org
SUMMARY:Inter-Area Remote Communities Workgroup
DESCRIPTION:Time: 01:00 PM – 2:30 PM Eastern Time (US and Canada)\nFourth Sunday of every month \n\n\nClick to Join the Meeting
URL:https://www.area83aa.org/event/inter-area-remote-communities-workgroup/
LOCATION:Virtual\, Ontario\, Canada
CATEGORIES:Service Meeting or Workshop,Special Event
ORGANIZER;CN="Area 83 Alternate Delegate":MAILTO:alt.delegate@area83aa.org
END:VEVENT
BEGIN:VEVENT
DTSTART;TZID=America/Toronto:20240601T113000
DTEND;TZID=America/Toronto:20240601T230000
DTSTAMP:20260423T132600
CREATED:20240513T125001Z
LAST-MODIFIED:20240513T125001Z
UID:400578-1717241400-1717282800@www.area83aa.org
SUMMARY:Kingston Founders Day Roundup
DESCRIPTION:More Information Here
URL:https://www.area83aa.org/event/kingston-founders-day-roundup/
LOCATION:Crossroads United Church\, Sir John A. Macdonald Boulevard\, Kingston\, ontario\, K7M 1A2\, Canada
CATEGORIES:Convention/Roundup,District 36,Special Event
END:VEVENT
BEGIN:VEVENT
DTSTART;TZID=America/Toronto:20240511T090000
DTEND;TZID=America/Toronto:20240511T190000
DTSTAMP:20260423T132600
CREATED:20240509T010519Z
LAST-MODIFIED:20240509T010519Z
UID:400498-1715418000-1715454000@www.area83aa.org
SUMMARY:District 74 Spring Conference
DESCRIPTION:Serenity through\nService\nSaturday May 11th\, 2024 \nDoors open at 09:00 a.m. \nSpeakers | Panels | Snacks & Beverages
URL:https://www.area83aa.org/event/district-74-spring-conference/
LOCATION:Knights of Columbus Hall\, Ellis Avenue\, Pembroke\, Ontario\, K8A 2H9\, Canada
CATEGORIES:District 74,Special Event,Special Event: Speaker Meeting
END:VEVENT
END:VCALENDAR